BEGIN:VCALENDAR
VERSION:2.0
PRODID:spatie/icalendar-generator
DESCRIPTION:Events from Action Duchenne
X-WR-CALDESC:Events from Action Duchenne
REFRESH-INTERVAL;VALUE=DURATION:PT1440M
X-PUBLISHED-TTL:PT1440M
BEGIN:VTIMEZONE
TZID:Europe/London
BEGIN:STANDARD
DTSTART:20231029T020000Z
TZOFFSETFROM:+0100
TZOFFSETTO:+0000
END:STANDARD
BEGIN:DAYLIGHT
DTSTART:20240331T010000Z
TZOFFSETFROM:+0000
TZOFFSETTO:+0100
END:DAYLIGHT
END:VTIMEZONE
BEGIN:VTIMEZONE
TZID:UTC
BEGIN:STANDARD
DTSTART:20250728T030003Z
TZOFFSETFROM:+0000
TZOFFSETTO:+0000
END:STANDARD
END:VTIMEZONE
BEGIN:VEVENT
UID:22-2
DTSTAMP:20260424T030003Z
SUMMARY:Dads Against Duchenne
LOCATION:
ORGANIZER;CN=Alex:MAILTO:alex@actionduchenne.org
DTSTART;TZID=Europe/London:20240205T200000
DTEND;TZID=Europe/London:20240205T210000
X-ALT-DESC;FMTTYPE=TEXT/HTML:It is a difficult place being a Dad in Duchenn
 e and there isn’t much opportunity to speak with others face to face.  
 We're going to be launching a virtual Dad’s night hosted by myself to gi
 ve Duchenne dads some time and space to just talk to other guys in the sam
 e position.  &amp;nbsp\; I hear&amp;hellip\;
CATEGORIES:DAD\'s
URL;VALUE=URI:https://www.actionduchenne.org/mc-events/dads-against-duchenn
 e/
METHOD:PUBLISH
END:VEVENT
END:VCALENDAR