BEGIN:VCALENDAR
VERSION:2.0
PRODID:spatie/icalendar-generator
DESCRIPTION:Events from Action Duchenne
X-WR-CALDESC:Events from Action Duchenne
REFRESH-INTERVAL;VALUE=DURATION:PT1440M
X-PUBLISHED-TTL:PT1440M
BEGIN:VTIMEZONE
TZID:Europe/London
BEGIN:STANDARD
DTSTART:20231029T020000Z
TZOFFSETFROM:+0100
TZOFFSETTO:+0000
END:STANDARD
BEGIN:DAYLIGHT
DTSTART:20240331T010000Z
TZOFFSETFROM:+0000
TZOFFSETTO:+0100
END:DAYLIGHT
END:VTIMEZONE
BEGIN:VTIMEZONE
TZID:UTC
BEGIN:STANDARD
DTSTART:20250725T125550Z
TZOFFSETFROM:+0000
TZOFFSETTO:+0000
END:STANDARD
END:VTIMEZONE
BEGIN:VEVENT
UID:45-35
DTSTAMP:20260421T125550Z
SUMMARY:Yes I Can Online
LOCATION:
ORGANIZER;CN=ravi:MAILTO:ravi@actionduchenne.org
DTSTART;TZID=Europe/London:20240312T180000
DTEND;TZID=Europe/London:20240312T190000
X-ALT-DESC;FMTTYPE=TEXT/HTML:Online sessions for 14 - 25 year olds living w
 ith Duchenne
CATEGORIES:Yes I Can
URL;VALUE=URI:https://www.actionduchenne.org/mc-events/yes-i-can-online-3/
METHOD:PUBLISH
END:VEVENT
END:VCALENDAR